BEGIN:VCALENDAR
VERSION:2.0
PRODID:-//Tukios.com/
BEGIN:VEVENT
UID:a7931011-cc02-4dd3-a37f-d1913e2f71a9@www.jordanfuneralhome.com
DTSTAMP:20260421T225145Z
DTSTART:20260427
SUMMARY:Burial
DESCRIPTION:
URL:https://www.jordanfuneralhome.com/obituaries/lynette-rodriguez
LOCATION: 904 South Huntington Street  Kosciusko MS 39090
GEO:33.0444979;-89.5818185
END:VEVENT
END:VCALENDAR