BEGIN:VCALENDAR
VERSION:2.0
PRODID:-//Tukios.com/
BEGIN:VEVENT
UID:dd7b3d4d-d957-43b1-9cbc-92044f396e84@www.jordanfuneralhome.com
DTSTAMP:20260421T224517Z
DTSTART:20260427T160000Z
DTEND:20260427T170000Z
SUMMARY:Funeral Service
DESCRIPTION:
URL:https://www.jordanfuneralhome.com/obituaries/lynette-rodriguez
LOCATION: 855 MS-12  Kosciusko MS 39090
GEO:33.0673278;-89.5647709
END:VEVENT
END:VCALENDAR