BEGIN:VCALENDAR
VERSION:2.0
PRODID:-//Tukios.com/
BEGIN:VEVENT
UID:b205dad0-ac19-495f-9da3-bbad581aec28@www.jordanfuneralhome.com
DTSTAMP:20260421T224517Z
DTSTART:20260427T140000Z
DTEND:20260427T160000Z
SUMMARY:Visitation
DESCRIPTION:
URL:https://www.jordanfuneralhome.com/obituaries/lynette-rodriguez
LOCATION: 855 MS-12  Kosciusko MS 39090
GEO:33.0673278;-89.5647709
END:VEVENT
END:VCALENDAR